BEGIN:VCALENDAR
VERSION:2.0
PRODID:-//Plone.org//NONSGML plone.app.event//EN
X-WR-TIMEZONE:Europe/Berlin
BEGIN:VEVENT
SUMMARY:Bethe Forum: Modular Flavor Symmetries
DTSTART;TZID=Europe/Berlin:20220502T080000
DTEND;TZID=Europe/Berlin:20220506T200000
DTSTAMP:20260424T180530Z
UID:dd1c1a39b6f34aa49c59ec1a94d60aa6@www.bctp.uni-bonn.de
CATEGORIES:indico_56
CREATED:20230306T093959Z
DESCRIPTION:"Modular Flavor Symmetries" - For further details\, follow the
  link in the "Additional Information" category.
LAST-MODIFIED:20250915T122136Z
URL:https://www.bctp.uni-bonn.de/events-folder/bethe-forum-modular-flavor-
 symmetries
END:VEVENT
BEGIN:VTIMEZONE
TZID:Europe/Berlin
X-LIC-LOCATION:Europe/Berlin
BEGIN:DAYLIGHT
DTSTART:20220327T030000
TZNAME:CEST
TZOFFSETFROM:+0100
TZOFFSETTO:+0200
END:DAYLIGHT
END:VTIMEZONE
END:VCALENDAR
