BEGIN:VCALENDAR
VERSION:2.0
PRODID:-//Plone.org//NONSGML plone.app.event//EN
X-WR-TIMEZONE:Europe/Berlin
BEGIN:VEVENT
SUMMARY:Bethe Forum: Machine Learning: Where to Apply in Theoretical P...
DTSTART;TZID=Europe/Berlin:20220627T090000
DTEND;TZID=Europe/Berlin:20220701T170000
DTSTAMP:20260420T005058Z
UID:7ac9ebecd787410eba9a178d4bfc3da6@www.bctp.uni-bonn.de
CATEGORIES:indico_56
CREATED:20230306T093958Z
DESCRIPTION:"Machine Learning: Where to Apply in Theoretical Physics" - Fo
 r further details\, follow the link in the "Additional Information" catego
 ry.
LAST-MODIFIED:20250915T122136Z
URL:https://www.bctp.uni-bonn.de/events-folder/bethe-forum-machine-learnin
 g-where-to-apply-in-theoretical-p-1
END:VEVENT
BEGIN:VTIMEZONE
TZID:Europe/Berlin
X-LIC-LOCATION:Europe/Berlin
BEGIN:DAYLIGHT
DTSTART:20220327T030000
TZNAME:CEST
TZOFFSETFROM:+0100
TZOFFSETTO:+0200
END:DAYLIGHT
END:VTIMEZONE
END:VCALENDAR
