BEGIN:VCALENDAR
VERSION:2.0
PRODID:-//Plone.org//NONSGML plone.app.event//EN
X-WR-TIMEZONE:Europe/Berlin
BEGIN:VEVENT
SUMMARY:Bethe Forum: Fishnets: Conformal Field Theories and Feynman Gr...
DTSTART;TZID=Europe/Berlin:20240902T090000
DTEND;TZID=Europe/Berlin:20240906T180000
DTSTAMP:20260422T011723Z
UID:17ea4fba73d743bb897007ffea004b84@www.bctp.uni-bonn.de
CATEGORIES:indico_56
CREATED:20231026T073803Z
DESCRIPTION:"Fishnets: Conformal Field Theories and Feynman Graphs" - For 
 further details\, follow the link in the "Additional Information" category
 .
LAST-MODIFIED:20250915T122140Z
URL:https://www.bctp.uni-bonn.de/events-folder/bethe-forum-fishnets-confor
 mal-field-theories-and-feynman-gr
END:VEVENT
BEGIN:VTIMEZONE
TZID:Europe/Berlin
X-LIC-LOCATION:Europe/Berlin
BEGIN:DAYLIGHT
DTSTART:20240331T030000
TZNAME:CEST
TZOFFSETFROM:+0100
TZOFFSETTO:+0200
END:DAYLIGHT
END:VTIMEZONE
END:VCALENDAR
