BEGIN:VCALENDAR
VERSION:2.0
PRODID:-//Plone.org//NONSGML plone.app.event//EN
X-WR-TIMEZONE:Europe/Berlin
BEGIN:VEVENT
SUMMARY:Bethe Forum: Fall Bonn HEP Meeting 2024: Embracing Diversity i...
DTSTART;TZID=Europe/Berlin:20241007T083000
DTEND;TZID=Europe/Berlin:20241009T165000
DTSTAMP:20260423T015304Z
UID:45a8ee96333f4886afde59a35409a308@www.bctp.uni-bonn.de
CATEGORIES:indico_56
CREATED:20240403T094916Z
DESCRIPTION:"Fall Bonn HEP Meeting 2024: Embracing Diversity in High Energ
 y Physics" - For further details\, follow the link in the "Additional Info
 rmation" category.
LAST-MODIFIED:20250915T122125Z
URL:https://www.bctp.uni-bonn.de/events-folder/bethe-forum-fall-bonn-hep-m
 eeting-2024
END:VEVENT
BEGIN:VTIMEZONE
TZID:Europe/Berlin
X-LIC-LOCATION:Europe/Berlin
BEGIN:DAYLIGHT
DTSTART:20240331T030000
TZNAME:CEST
TZOFFSETFROM:+0100
TZOFFSETTO:+0200
END:DAYLIGHT
END:VTIMEZONE
END:VCALENDAR
