BEGIN:VCALENDAR
VERSION:2.0
PRODID:-//Plone.org//NONSGML plone.app.event//EN
X-WR-TIMEZONE:Europe/Berlin
BEGIN:VEVENT
SUMMARY:Bethe Forum: Elliptics and Beyond '25
DTSTART;TZID=Europe/Berlin:20250901T090000
DTEND;TZID=Europe/Berlin:20250905T180000
DTSTAMP:20260423T040401Z
UID:c41429b680894ec288bb9883a94a1a5e@www.bctp.uni-bonn.de
CATEGORIES:indico_56
CREATED:20250212T090206Z
DESCRIPTION:"Elliptics and Beyond '25" - For further details\, follow the 
 link in the "Additional Information" category.
LAST-MODIFIED:20250915T122121Z
URL:https://www.bctp.uni-bonn.de/events-folder/bethe-forum-elliptics-and-b
 eyond-25
END:VEVENT
BEGIN:VTIMEZONE
TZID:Europe/Berlin
X-LIC-LOCATION:Europe/Berlin
BEGIN:DAYLIGHT
DTSTART:20250330T030000
TZNAME:CEST
TZOFFSETFROM:+0100
TZOFFSETTO:+0200
END:DAYLIGHT
END:VTIMEZONE
END:VCALENDAR
