BEGIN:VCALENDAR
VERSION:2.0
PRODID:-//Plone.org//NONSGML plone.app.event//EN
X-WR-TIMEZONE:Europe/Berlin
BEGIN:VEVENT
SUMMARY:Bethe Colloquium by Konstantin Zarembo
DTSTART;TZID=Europe/Berlin:20240905T161500
DTEND;TZID=Europe/Berlin:20240905T181500
DTSTAMP:20260419T202535Z
UID:fa7b0963fc3444e7986046eb77700c00@www.bctp.uni-bonn.de
CATEGORIES:indico_33
CREATED:20240610T161527Z
DESCRIPTION:"Chiral Phase Transition in QCD and in Solvable Models" - For 
 further details\, follow the link in the "Additional Information" category
 .
LAST-MODIFIED:20250915T122108Z
URL:https://www.bctp.uni-bonn.de/events-folder/bethe-colloquium-by-konstan
 tin-zarembo
END:VEVENT
BEGIN:VTIMEZONE
TZID:Europe/Berlin
X-LIC-LOCATION:Europe/Berlin
BEGIN:DAYLIGHT
DTSTART:20240331T030000
TZNAME:CEST
TZOFFSETFROM:+0100
TZOFFSETTO:+0200
END:DAYLIGHT
END:VTIMEZONE
END:VCALENDAR
